BEGIN:VCALENDAR
VERSION:2.0
PRODID:GlueUp
CALSCALE:GREGORIAN
BEGIN:VTIMEZONE
TZID:UTC
BEGIN:STANDARD
DTSTART:19700101T000000
TZOFFSETFROM:+0000
TZOFFSETTO:+0000
TZNAME:UTC
END:STANDARD
END:VTIMEZONE
BEGIN:VEVENT
TZ:+00
ORGANIZER;CN=陈曦:MAILTO:chenx@daonong.com
UID:22347-1776801176@https://app.glueup.cn
DTSTAMP:20260421T195256Z
DTSTART:20190610T160001Z
DTEND:20190610T160001Z
SUMMARY:2019“口子窖-道农杯”中国企业家高尔夫球队 -红蓝大赛
DESCRIPTION:中国企业家俱乐部发布活动2019“口子窖-道农杯”中国企业家高尔夫球队 -红蓝大赛\n\n2019年06月11日(GMT+8)\n\n更多信息，访问https://app.glueup.cn/my/events/22347
LOCATION:淮北市口子国际大酒店 - 中国安徽淮北人民中路251号
BEGIN:VALARM
TRIGGER:-PT48H
REPEAT:4
DURATION:PT30M
ACTION:DISPLAY
END:VALARM
END:VEVENT
END:VCALENDAR