BEGIN:VCALENDAR
VERSION:2.0
PRODID:GlueUp
CALSCALE:GREGORIAN
BEGIN:VTIMEZONE
TZID:UTC
BEGIN:STANDARD
DTSTART:19700101T000000
TZOFFSETFROM:+0000
TZOFFSETTO:+0000
TZNAME:UTC
END:STANDARD
END:VTIMEZONE
BEGIN:VEVENT
TZ:+00
ORGANIZER;CN=燕鸣:MAILTO:yanm@daonong.com
UID:22917-1776801133@https://app.glueup.cn
DTSTAMP:20260421T195213Z
DTSTART:20191103T090000Z
DTEND:20191109T200000Z
SUMMARY:2019 中国绿公司联盟海外考察—爱尔兰站
DESCRIPTION:中国企业家俱乐部发布活动2019 中国绿公司联盟海外考察—爱尔兰站\n\n11月 03 - 09，2019(GMT+0)\n\n更多信息，访问https://app.glueup.cn/my/events/22917
LOCATION:都柏林 - 爱尔兰都柏林爱尔兰
BEGIN:VALARM
TRIGGER:-PT48H
REPEAT:4
DURATION:PT30M
ACTION:DISPLAY
END:VALARM
END:VEVENT
END:VCALENDAR