BEGIN:VCALENDAR
VERSION:2.0
PRODID:GlueUp
CALSCALE:GREGORIAN
BEGIN:VTIMEZONE
TZID:UTC
BEGIN:STANDARD
DTSTART:19700101T000000
TZOFFSETFROM:+0000
TZOFFSETTO:+0000
TZNAME:UTC
END:STANDARD
END:VTIMEZONE
BEGIN:VEVENT
TZ:+00
ORGANIZER;CN=JingJobs Intern:MAILTO:admin@jingjobs.com
UID:19812-1776800716@https://app.glueup.cn
DTSTAMP:20260421T194516Z
DTSTART:20181202T021500Z
DTEND:20181202T043000Z
SUMMARY:Deciding to do an MBA or postgraduate degree
DESCRIPTION:Deciding to do an MBA or postgraduate degree by JingJobs\n\nDec 2, 2018 (10:15 AM - 12:30 PM)(GMT+8)\n\nFor more information, click here: https://app.glueup.cn/my/events/19812
LOCATION:Inn Cube Coworking Space - 9/F Jing Chao Building - No. 5 NongZhanGuanNanLu - Tuanjiehu - Chaoyang District Beijing - China
BEGIN:VALARM
TRIGGER:-PT48H
REPEAT:4
DURATION:PT30M
ACTION:DISPLAY
END:VALARM
END:VEVENT
END:VCALENDAR