BEGIN:VCALENDAR
VERSION:2.0
PRODID:GlueUp
CALSCALE:GREGORIAN
BEGIN:VTIMEZONE
TZID:UTC
BEGIN:STANDARD
DTSTART:19700101T000000
TZOFFSETFROM:+0000
TZOFFSETTO:+0000
TZNAME:UTC
END:STANDARD
END:VTIMEZONE
BEGIN:VEVENT
TZ:+00
ORGANIZER;CN=Felix Dike:MAILTO:dikeunn85@gmail.com
UID:19692-1776984744@https://app.glueup.cn
DTSTAMP:20260423T225224Z
DTSTART:20181120T133000Z
DTEND:20181120T143000Z
SUMMARY:Harnessing Opportunities in LinkedIn Webinar
DESCRIPTION:Harnessing Opportunities in LinkedIn Webinar by Nigerians In Diaspora Organization (East China Chapter)\n\nNovember 20, 2018\n9:30 PM - 10:30 PM(GMT+8)\n\nFor more information and to attend the online event, click here:\n\nEvent Website: https://app.glueup.cn/my/events/19692
LOCATION:
BEGIN:VALARM
TRIGGER:-PT1H
REPEAT:4
DURATION:PT15M
ACTION:DISPLAY
END:VALARM
END:VEVENT
END:VCALENDAR