BEGIN:VCALENDAR
VERSION:2.0
PRODID:GlueUp
CALSCALE:GREGORIAN
BEGIN:VTIMEZONE
TZID:UTC
BEGIN:STANDARD
DTSTART:19700101T000000
TZOFFSETFROM:+0000
TZOFFSETTO:+0000
TZNAME:UTC
END:STANDARD
END:VTIMEZONE
BEGIN:VEVENT
TZ:+00
ORGANIZER;CN=Florence Mak:MAILTO:aa20051029@hotmail.com
UID:19189-1777145411@https://app.glueup.cn
DTSTAMP:20260425T193011Z
DTSTART:20181116T103000Z
DTEND:20181118T123000Z
SUMMARY:Startup Weekend Macao @CityU - TGSW
DESCRIPTION:Startup Weekend Macao @CityU - TGSW by Startup Weekend China\n\nNov 16 - 18, 2018(GMT+8)\n\nFor more information, click here: https://app.glueup.cn/my/events/19189
LOCATION:CITY UNIVERSITY OF MACAU - Avenida Padre Tomás Pereira Taipa - Macau MACAU - country-CN-MO
BEGIN:VALARM
TRIGGER:-PT48H
REPEAT:4
DURATION:PT30M
ACTION:DISPLAY
END:VALARM
END:VEVENT
END:VCALENDAR