BEGIN:VCALENDAR
VERSION:2.0
PRODID:GlueUp
CALSCALE:GREGORIAN
BEGIN:VTIMEZONE
TZID:UTC
BEGIN:STANDARD
DTSTART:19700101T000000
TZOFFSETFROM:+0000
TZOFFSETTO:+0000
TZNAME:UTC
END:STANDARD
END:VTIMEZONE
BEGIN:VEVENT
TZ:+00
ORGANIZER;CN=Madison Becnel:MAILTO:mbecnel@luc.edu
UID:19152-1776800191@https://app.glueup.cn
DTSTAMP:20260421T193631Z
DTSTART:20181025T110000Z
DTEND:20181025T130000Z
SUMMARY:Building Your Personal Brand on a Global Scale
DESCRIPTION:Building Your Personal Brand on a Global Scale by JingJobs\n\nOct 25, 2018 (7:00 PM - 9:00 PM)(GMT+8)\n\nFor more information, click here: https://app.glueup.cn/my/events/19152
LOCATION:Inn Cube Coworking Space - 9/F Jing Chao Building - No. 5 NongZhanGuanNanLu - Tuanjiehu - Chaoyang District Beijing - China
BEGIN:VALARM
TRIGGER:-PT48H
REPEAT:4
DURATION:PT30M
ACTION:DISPLAY
END:VALARM
END:VEVENT
END:VCALENDAR