BEGIN:VCALENDAR
VERSION:2.0
PRODID:GlueUp
CALSCALE:GREGORIAN
BEGIN:VTIMEZONE
TZID:UTC
BEGIN:STANDARD
DTSTART:19700101T000000
TZOFFSETFROM:+0000
TZOFFSETTO:+0000
TZNAME:UTC
END:STANDARD
END:VTIMEZONE
BEGIN:VEVENT
TZ:+00
ORGANIZER;CN=Samantha Kwok:MAILTO:info@jingjobs.com
UID:18745-1776800700@https://app.glueup.cn
DTSTAMP:20260421T194500Z
DTSTART:20180920T104500Z
DTEND:20180920T130000Z
SUMMARY:Career Transitions: Are you Management Material?
DESCRIPTION:Career Transitions: Are you Management Material? by JingJobs\n\nSep 20, 2018 (6:45 PM - 9:00 PM)(GMT+8)\n\nFor more information, click here: https://app.glueup.cn/my/events/18745
LOCATION:Inn Cube Coworking Space - 9/F Jing Chao Building - No. 5 NongZhanGuanNanLu - Tuanjiehu - Chaoyang District Beijing - China
BEGIN:VALARM
TRIGGER:-PT48H
REPEAT:4
DURATION:PT30M
ACTION:DISPLAY
END:VALARM
END:VEVENT
END:VCALENDAR