BEGIN:VCALENDAR
VERSION:2.0
PRODID:GlueUp
CALSCALE:GREGORIAN
BEGIN:VTIMEZONE
TZID:UTC
BEGIN:STANDARD
DTSTART:19700101T000000
TZOFFSETFROM:+0000
TZOFFSETTO:+0000
TZNAME:UTC
END:STANDARD
END:VTIMEZONE
BEGIN:VEVENT
TZ:+00
ORGANIZER;CN=Jenny Shen:MAILTO:jenny.shen@duke.edu
UID:17707-1776800699@https://app.glueup.cn
DTSTAMP:20260421T194459Z
DTSTART:20180725T110000Z
DTEND:20180725T133000Z
SUMMARY:FINDING YOUR FIT: CORPORATIONS VS. STARTUPS
DESCRIPTION:FINDING YOUR FIT: CORPORATIONS VS. STARTUPS by JingJobs\n\nJul 25, 2018 (7:00 PM - 9:30 PM)(GMT+8)\n\nFor more information, click here: https://app.glueup.cn/my/events/17707
LOCATION:Inn Cube Coworking Space - 9/F Jing Chao Building - No. 5 NongZhanGuanNanLu - Tuanjiehu - Chaoyang District Beijing - China
BEGIN:VALARM
TRIGGER:-PT48H
REPEAT:4
DURATION:PT30M
ACTION:DISPLAY
END:VALARM
END:VEVENT
END:VCALENDAR