BEGIN:VCALENDAR
VERSION:2.0
PRODID:GlueUp
CALSCALE:GREGORIAN
BEGIN:VTIMEZONE
TZID:UTC
BEGIN:STANDARD
DTSTART:19700101T000000
TZOFFSETFROM:+0000
TZOFFSETTO:+0000
TZNAME:UTC
END:STANDARD
END:VTIMEZONE
BEGIN:VEVENT
TZ:+00
ORGANIZER;CN=Njotosetiadi Brian:MAILTO:bd1@tolmaogroup.com
UID:17683-1776662988@https://app.glueup.cn
DTSTAMP:20260420T052948Z
DTSTART:20180726T110000Z
DTEND:20180726T133000Z
SUMMARY:Building Startups From Idea to Pitch
DESCRIPTION:Building Startups From Idea to Pitch by Tolmao Group\n\nJul 26, 2018 (7:00 PM - 9:30 PM)(GMT+8)\n\nFor more information, click here: https://app.glueup.cn/my/events/17683
LOCATION:CEO SUITE 事易好商务中心 - 上海市浦东新区世纪大道100号上海环球金融中心28楼 - 28th Floor - Shanghai World Financial Center,100 Century Avenue - Pudong - Shanghai 200120 - China China
BEGIN:VALARM
TRIGGER:-PT48H
REPEAT:4
DURATION:PT30M
ACTION:DISPLAY
END:VALARM
END:VEVENT
END:VCALENDAR