BEGIN:VCALENDAR
VERSION:2.0
PRODID:GlueUp
CALSCALE:GREGORIAN
BEGIN:VTIMEZONE
TZID:UTC
BEGIN:STANDARD
DTSTART:19700101T000000
TZOFFSETFROM:+0000
TZOFFSETTO:+0000
TZNAME:UTC
END:STANDARD
END:VTIMEZONE
BEGIN:VEVENT
TZ:+00
ORGANIZER;CN=CCG Event Email:MAILTO:event@ccg.org.cn
UID:17589-1776786385@https://app.glueup.cn
DTSTAMP:20260421T154625Z
DTSTART:20180819T003000Z
DTEND:20180819T100000Z
SUMMARY:2018中国留学人员创新创业论坛
DESCRIPTION:全球化智库 CCG发布活动2018中国留学人员创新创业论坛\n\n2018年08月19日（08:30 - 18:00）(GMT+8)\n\n更多信息，访问https://app.glueup.cn/my/events/17589
LOCATION:
BEGIN:VALARM
TRIGGER:-PT48H
REPEAT:4
DURATION:PT30M
ACTION:DISPLAY
END:VALARM
END:VEVENT
END:VCALENDAR