BEGIN:VCALENDAR
VERSION:2.0
PRODID:GlueUp
CALSCALE:GREGORIAN
BEGIN:VTIMEZONE
TZID:UTC
BEGIN:STANDARD
DTSTART:19700101T000000
TZOFFSETFROM:+0000
TZOFFSETTO:+0000
TZNAME:UTC
END:STANDARD
END:VTIMEZONE
BEGIN:VEVENT
TZ:+00
ORGANIZER;CN=Yunxue GAO:MAILTO:gaoyunxue@ccg.org.cn
UID:17567-1776780750@https://app.glueup.cn
DTSTAMP:20260421T141230Z
DTSTART:20180711T060000Z
DTEND:20180711T090000Z
SUMMARY:方太集团董事长兼总裁茅忠群CCG演讲
DESCRIPTION:全球化智库 CCG发布活动方太集团董事长兼总裁茅忠群CCG演讲\n\n2018年07月11日（14:00 - 17:00）(GMT+8)\n\n更多信息，访问https://app.glueup.cn/my/events/17567
LOCATION:全球化智库（CCG）北京总部 - 中国北京市朝阳区光华路7号汉威大厦西区15层
BEGIN:VALARM
TRIGGER:-PT48H
REPEAT:4
DURATION:PT30M
ACTION:DISPLAY
END:VALARM
END:VEVENT
END:VCALENDAR