BEGIN:VCALENDAR
VERSION:2.0
PRODID:GlueUp
CALSCALE:GREGORIAN
BEGIN:VTIMEZONE
TZID:UTC
BEGIN:STANDARD
DTSTART:19700101T000000
TZOFFSETFROM:+0000
TZOFFSETTO:+0000
TZNAME:UTC
END:STANDARD
END:VTIMEZONE
BEGIN:VEVENT
TZ:+00
ORGANIZER;CN=CAGES CAGES:MAILTO:info@cages.cn
UID:17477-1776774951@https://app.glueup.cn
DTSTAMP:20260421T123551Z
DTSTART:20180706T100000Z
DTEND:20180705T160001Z
SUMMARY:CAGES FIFA Quarterfinals July 6  世界杯1/4决赛7月6日
DESCRIPTION:CAGES FIFA Quarterfinals July 6  世界杯1/4决赛7月6日 by Cages Bar & Sports Shanghai\n\nJul 6, 2018 (18:00)(GMT+8)\n\nFor more information, click here: https://app.glueup.cn/my/events/17477
LOCATION:Cages Bar & Sports - 3F - Jing'An Sports Center - Jiang Ning Lu 428 - Jing'an - Shanghai Shanghai - Shanghai Shi - China
BEGIN:VALARM
TRIGGER:-PT48H
REPEAT:4
DURATION:PT30M
ACTION:DISPLAY
END:VALARM
END:VEVENT
END:VCALENDAR