BEGIN:VCALENDAR
VERSION:2.0
PRODID:GlueUp
CALSCALE:GREGORIAN
BEGIN:VTIMEZONE
TZID:UTC
BEGIN:STANDARD
DTSTART:19700101T000000
TZOFFSETFROM:+0000
TZOFFSETTO:+0000
TZNAME:UTC
END:STANDARD
END:VTIMEZONE
BEGIN:VEVENT
TZ:+00
ORGANIZER;CN=Charles Faust:MAILTO:event@digitalbootcamp.asia
UID:17227-1776656841@https://app.glueup.cn
DTSTAMP:20260420T034721Z
DTSTART:20180711T074000Z
DTEND:20180711T130000Z
SUMMARY:Marketing Bootcamp
DESCRIPTION:Marketing Bootcamp by Tolmao Group\n\nJul 11, 2018 (3:40 PM - 9:00 PM)(GMT+8)\n\nFor more information, click here: https://app.glueup.cn/my/events/17227
LOCATION:WeWork - 3F - 819 Nanjing West Road - Jing'an - Shanghai - China - ( entrance is at no.158 wujiang lu)
BEGIN:VALARM
TRIGGER:-PT48H
REPEAT:4
DURATION:PT30M
ACTION:DISPLAY
END:VALARM
END:VEVENT
END:VCALENDAR