BEGIN:VCALENDAR
VERSION:2.0
PRODID:GlueUp
CALSCALE:GREGORIAN
BEGIN:VTIMEZONE
TZID:UTC
BEGIN:STANDARD
DTSTART:19700101T000000
TZOFFSETFROM:+0000
TZOFFSETTO:+0000
TZNAME:UTC
END:STANDARD
END:VTIMEZONE
BEGIN:VEVENT
TZ:+00
ORGANIZER;CN=Charles Faust:MAILTO:event@digitalbootcamp.asia
UID:17016-1776656775@https://app.glueup.cn
DTSTAMP:20260420T034615Z
DTSTART:20180620T013000Z
DTEND:20180620T030000Z
SUMMARY:WeChat Monthly Review: Breakfast Edition
DESCRIPTION:WeChat Monthly Review: Breakfast Edition by Tolmao Group\n\nJun 20, 2018 (9:30 AM - 11:00 AM)(GMT+8)\n\nFor more information, click here: https://app.glueup.cn/my/events/17016
LOCATION:WeWork (Yunnanlu) - No. 118 Yun Nan Nan Lu - Shanghai - China 200085 Shanghai - Huangpu District - China
BEGIN:VALARM
TRIGGER:-PT48H
REPEAT:4
DURATION:PT30M
ACTION:DISPLAY
END:VALARM
END:VEVENT
END:VCALENDAR