BEGIN:VCALENDAR
VERSION:2.0
PRODID:GlueUp
CALSCALE:GREGORIAN
BEGIN:VTIMEZONE
TZID:UTC
BEGIN:STANDARD
DTSTART:19700101T000000
TZOFFSETFROM:+0000
TZOFFSETTO:+0000
TZNAME:UTC
END:STANDARD
END:VTIMEZONE
BEGIN:VEVENT
TZ:+00
ORGANIZER;CN=Happy Officer:MAILTO:support2@tolmaogroup.com
UID:16976-1776656802@https://app.glueup.cn
DTSTAMP:20260420T034642Z
DTSTART:20180607T093000Z
DTEND:20180607T113000Z
SUMMARY:Combatting Urban Living and Mental Health
DESCRIPTION:Combatting Urban Living and Mental Health by Tolmao Group\n\nJun 7, 2018 (5:30 PM - 7:30 PM)(GMT+8)\n\nFor more information, click here: https://app.glueup.cn/my/events/16976
LOCATION:K11 - CEO SUITE 事易好商务中心 - 47th Floor - 300 Huaihai Middle Road - Huangpu District - Shanghai. - 上海市黄浦区淮海中路300号香港新世界大厦(K11)47楼 Shanghai - Huangpu District - China
BEGIN:VALARM
TRIGGER:-PT48H
REPEAT:4
DURATION:PT30M
ACTION:DISPLAY
END:VALARM
END:VEVENT
END:VCALENDAR