BEGIN:VCALENDAR
VERSION:2.0
PRODID:GlueUp
CALSCALE:GREGORIAN
BEGIN:VTIMEZONE
TZID:UTC
BEGIN:STANDARD
DTSTART:19700101T000000
TZOFFSETFROM:+0000
TZOFFSETTO:+0000
TZNAME:UTC
END:STANDARD
END:VTIMEZONE
BEGIN:VEVENT
TZ:+00
ORGANIZER;CN=Natasha Fang:MAILTO:nata@tolmaogroup.com
UID:16614-1776656804@https://app.glueup.cn
DTSTAMP:20260420T034644Z
DTSTART:20180531T160001Z
DTEND:20180531T160001Z
SUMMARY:Design Thinking for Living
DESCRIPTION:Design Thinking for Living by Tolmao Group\n\nJun 1, 2018(GMT+8)\n\nFor more information, click here: https://app.glueup.cn/my/events/16614
LOCATION:CEO SUITE 事易好商务中心 - 上海市浦东新区世纪大道100号上海环球金融中心28楼 - 28th Floor - Shanghai World Financial Center,100 Century Avenue - Pudong - Shanghai 200120 - China China
BEGIN:VALARM
TRIGGER:-PT48H
REPEAT:4
DURATION:PT30M
ACTION:DISPLAY
END:VALARM
END:VEVENT
END:VCALENDAR