BEGIN:VCALENDAR
VERSION:2.0
PRODID:GlueUp
CALSCALE:GREGORIAN
BEGIN:VTIMEZONE
TZID:UTC
BEGIN:STANDARD
DTSTART:19700101T000000
TZOFFSETFROM:+0000
TZOFFSETTO:+0000
TZNAME:UTC
END:STANDARD
END:VTIMEZONE
BEGIN:VEVENT
TZ:+00
ORGANIZER;CN=DigitalBootcamp Asia:MAILTO:event@digitalbootcamp.asia
UID:16543-1776656840@https://app.glueup.cn
DTSTAMP:20260420T034720Z
DTSTART:20180605T110000Z
DTEND:20180605T130000Z
SUMMARY:What brands are getting wrong about WeChat — and what to do about it
DESCRIPTION:What brands are getting wrong about WeChat — and what to do about it by Tolmao Group\n\nJun 5, 2018 (7:00 PM - 9:00 PM)(GMT+8)\n\nFor more information, click here: https://app.glueup.cn/my/events/16543
LOCATION:WEWORK Yunnan Road - wework 12th floor - No.118 - South Yunnan Road - 黄浦区云南南路118号wework12楼 Shanghai - China
BEGIN:VALARM
TRIGGER:-PT48H
REPEAT:4
DURATION:PT30M
ACTION:DISPLAY
END:VALARM
END:VEVENT
END:VCALENDAR