BEGIN:VCALENDAR
VERSION:2.0
PRODID:GlueUp
CALSCALE:GREGORIAN
BEGIN:VTIMEZONE
TZID:UTC
BEGIN:STANDARD
DTSTART:19700101T000000
TZOFFSETFROM:+0000
TZOFFSETTO:+0000
TZNAME:UTC
END:STANDARD
END:VTIMEZONE
BEGIN:VEVENT
TZ:+00
ORGANIZER;CN=李睿梁:MAILTO:bri@ccg.org.cn
UID:16494-1776786357@https://app.glueup.cn
DTSTAMP:20260421T154557Z
DTSTART:20180521T080000Z
DTEND:20180521T103000Z
SUMMARY:“一带一路”倡议下的中亚国家的投资机遇与合作圆桌会
DESCRIPTION:“一带一路”倡议下的中亚国家的投资机遇与合作圆桌会 by Center for China and Globalization\n\nMay 21, 2018 (16:00 - 18:30)(GMT+8)\n\nFor more information, click here: https://app.glueup.cn/my/events/16494
LOCATION:中国与全球化智库 - 朝阳区光华路汉威大厦西区15层 北京 - China
BEGIN:VALARM
TRIGGER:-PT48H
REPEAT:4
DURATION:PT30M
ACTION:DISPLAY
END:VALARM
END:VEVENT
END:VCALENDAR