BEGIN:VCALENDAR
VERSION:2.0
PRODID:GlueUp
CALSCALE:GREGORIAN
BEGIN:VTIMEZONE
TZID:UTC
BEGIN:STANDARD
DTSTART:19700101T000000
TZOFFSETFROM:+0000
TZOFFSETTO:+0000
TZNAME:UTC
END:STANDARD
END:VTIMEZONE
BEGIN:VEVENT
TZ:+00
ORGANIZER;CN=Meg Rudy:MAILTO:margaretrudy@gmail.com
UID:16348-1776935446@https://app.glueup.cn
DTSTAMP:20260423T091046Z
DTSTART:20180512T020000Z
DTEND:20180512T033000Z
SUMMARY:Global Shapers Present: HOW TO LEAD AN INTERVIEW
DESCRIPTION:Global Shapers Present: HOW TO LEAD AN INTERVIEW by Global Shapers Beijing II Hub\n\nMay 12, 2018 (10:00 AM - 11:30 AM)(GMT+8)\n\nFor more information, click here: https://app.glueup.cn/my/events/16348
LOCATION:Beijing Sanlitun WeWork - Sanlitun TaikooLi North - Building N3 - 3rd Floor Beijing - China
BEGIN:VALARM
TRIGGER:-PT48H
REPEAT:4
DURATION:PT30M
ACTION:DISPLAY
END:VALARM
END:VEVENT
END:VCALENDAR