BEGIN:VCALENDAR
VERSION:2.0
PRODID:GlueUp
CALSCALE:GREGORIAN
BEGIN:VTIMEZONE
TZID:UTC
BEGIN:STANDARD
DTSTART:19700101T000000
TZOFFSETFROM:+0000
TZOFFSETTO:+0000
TZNAME:UTC
END:STANDARD
END:VTIMEZONE
BEGIN:VEVENT
TZ:+00
ORGANIZER;CN=Giannina:MAILTO:gianinacornea@yahoo.com
UID:16076-1776883729@https://app.glueup.cn
DTSTAMP:20260422T184849Z
DTSTART:20180517T110000Z
DTEND:20180517T130000Z
SUMMARY:You at YOUR BEST
DESCRIPTION:You at YOUR BEST by Beijing Women's Network\n\nMay 17, 2018 (19:00 - 21:00)(GMT+8)\n\nFor more information, click here: https://app.glueup.cn/my/events/16076
LOCATION:TIE Family Club - 北京朝阳区青年路国美第一城2号院9号楼1单元102 - Rm 102 - Unit 1 - Bld 9 - Yard 2 - Guomeidiyicheng Compound - Qingnian Rd - Chaoyang District - Beijing. - （5 mins biking from Metro Line 6 - Qingnian Road - Joy City Shopping Mall - Exit B - China China
BEGIN:VALARM
TRIGGER:-PT48H
REPEAT:4
DURATION:PT30M
ACTION:DISPLAY
END:VALARM
END:VEVENT
END:VCALENDAR