BEGIN:VCALENDAR
VERSION:2.0
PRODID:GlueUp
CALSCALE:GREGORIAN
BEGIN:VTIMEZONE
TZID:UTC
BEGIN:STANDARD
DTSTART:19700101T000000
TZOFFSETFROM:+0000
TZOFFSETTO:+0000
TZNAME:UTC
END:STANDARD
END:VTIMEZONE
BEGIN:VEVENT
TZ:+00
ORGANIZER;CN=Cassie Officer:MAILTO:support2@tolmaogroup.com
UID:16071-1776662991@https://app.glueup.cn
DTSTAMP:20260420T052951Z
DTSTART:20180517T110000Z
DTEND:20180517T130000Z
SUMMARY:Technology - The Growing Pillar of Marketing
DESCRIPTION:Technology - The Growing Pillar of Marketing by Tolmao Group\n\nMay 17, 2018 (7:00 PM - 9:00 PM)(GMT+8)\n\nFor more information, click here: https://app.glueup.cn/my/events/16071
LOCATION:WeWork (Yanandonglu) - 588 Yan'an East Road - Building 1 - L2 - Huangpu District Shanghai - China
BEGIN:VALARM
TRIGGER:-PT48H
REPEAT:4
DURATION:PT30M
ACTION:DISPLAY
END:VALARM
END:VEVENT
END:VCALENDAR