BEGIN:VCALENDAR
VERSION:2.0
PRODID:GlueUp
CALSCALE:GREGORIAN
BEGIN:VTIMEZONE
TZID:UTC
BEGIN:STANDARD
DTSTART:19700101T000000
TZOFFSETFROM:+0000
TZOFFSETTO:+0000
TZNAME:UTC
END:STANDARD
END:VTIMEZONE
BEGIN:VEVENT
TZ:+00
ORGANIZER;CN=郭秀茹:MAILTO:guoxiuru@ccg.org.cn
UID:15730-1776792309@https://app.glueup.cn
DTSTAMP:20260421T172509Z
DTSTART:20180615T010000Z
DTEND:20180615T090000Z
SUMMARY:2018国际顶尖智库高级研修班
DESCRIPTION:全球化智库 CCG发布活动2018国际顶尖智库高级研修班\n\n2018年06月15日（09:00 - 17:00）(GMT+8)\n\n更多信息，访问https://app.glueup.cn/my/events/15730
LOCATION:宾大沃顿中国中心
BEGIN:VALARM
TRIGGER:-PT48H
REPEAT:4
DURATION:PT30M
ACTION:DISPLAY
END:VALARM
END:VEVENT
END:VCALENDAR