BEGIN:VCALENDAR
VERSION:2.0
PRODID:GlueUp
CALSCALE:GREGORIAN
BEGIN:VTIMEZONE
TZID:UTC
BEGIN:STANDARD
DTSTART:19700101T000000
TZOFFSETFROM:+0000
TZOFFSETTO:+0000
TZNAME:UTC
END:STANDARD
END:VTIMEZONE
BEGIN:VEVENT
TZ:+00
ORGANIZER;CN=Hannah Maia Frishberg:MAILTO:hannah@kehilatshanghai.org
UID:15501-1776637968@https://app.glueup.cn
DTSTAMP:20260419T223248Z
DTSTART:20180406T110000Z
DTEND:20180406T130000Z
SUMMARY:04.06.18: Shabbat Passover Potluck
DESCRIPTION:04.06.18: Shabbat Passover Potluck by Kehilat Shanghai\n\nApr 6, 2018 (7:00 PM - 9:00 PM)(GMT+8)\n\nFor more information, click here: https://app.glueup.cn/my/events/15501
LOCATION:Near Nanjing Xi Lu Metro Stop - nanjing xi lu shanghai
BEGIN:VALARM
TRIGGER:-PT48H
REPEAT:4
DURATION:PT30M
ACTION:DISPLAY
END:VALARM
END:VEVENT
END:VCALENDAR