BEGIN:VCALENDAR
VERSION:2.0
PRODID:GlueUp
CALSCALE:GREGORIAN
BEGIN:VTIMEZONE
TZID:UTC
BEGIN:STANDARD
DTSTART:19700101T000000
TZOFFSETFROM:+0000
TZOFFSETTO:+0000
TZNAME:UTC
END:STANDARD
END:VTIMEZONE
BEGIN:VEVENT
TZ:+00
ORGANIZER;CN=孙晓萌:MAILTO:sunxiaomeng@ccg.org.cn
UID:15182-1776780868@https://app.glueup.cn
DTSTAMP:20260421T141428Z
DTSTART:20180617T003000Z
DTEND:20180617T123000Z
SUMMARY:2018 China Global Think Tank Innovation Forum
DESCRIPTION:2018 China Global Think Tank Innovation Forum by Center for China and Globalization\n\nJun 17, 2018 (08:30 - 20:30)(GMT+8)\n\nFor more information, click here: https://app.glueup.cn/my/events/15182
LOCATION:CBD Beijing - Beijing - China
BEGIN:VALARM
TRIGGER:-PT48H
REPEAT:4
DURATION:PT30M
ACTION:DISPLAY
END:VALARM
END:VEVENT
END:VCALENDAR