BEGIN:VCALENDAR
VERSION:2.0
PRODID:GlueUp
CALSCALE:GREGORIAN
BEGIN:VTIMEZONE
TZID:UTC
BEGIN:STANDARD
DTSTART:19700101T000000
TZOFFSETFROM:+0000
TZOFFSETTO:+0000
TZNAME:UTC
END:STANDARD
END:VTIMEZONE
BEGIN:VEVENT
TZ:+00
ORGANIZER;CN=Tolmao Group:MAILTO:nata@tolmaogroup.com
UID:15138-1776663011@https://app.glueup.cn
DTSTAMP:20260420T053011Z
DTSTART:20180322T110000Z
DTEND:20180322T130000Z
SUMMARY:区块链之二三事
DESCRIPTION:Tolmao Group发布活动区块链之二三事\n\n2018年03月22日（19:00 - 21:00）(GMT+8)\n\n更多信息，访问https://app.glueup.cn/my/events/15138
LOCATION:事易好商务中心 - 中国上海市上海市浦东新区世纪大道100号上海环球金融中心28楼
BEGIN:VALARM
TRIGGER:-PT48H
REPEAT:4
DURATION:PT30M
ACTION:DISPLAY
END:VALARM
END:VEVENT
END:VCALENDAR