BEGIN:VCALENDAR
VERSION:2.0
PRODID:GlueUp
CALSCALE:GREGORIAN
BEGIN:VTIMEZONE
TZID:UTC
BEGIN:STANDARD
DTSTART:19700101T000000
TZOFFSETFROM:+0000
TZOFFSETTO:+0000
TZNAME:UTC
END:STANDARD
END:VTIMEZONE
BEGIN:VEVENT
TZ:+00
ORGANIZER;CN=郭秀茹:MAILTO:guoxiuru@ccg.org.cn
UID:15025-1776786358@https://app.glueup.cn
DTSTAMP:20260421T154558Z
DTSTART:20180327T060000Z
DTEND:20180327T093000Z
SUMMARY:CCG-CGTN国际论坛
DESCRIPTION:全球化智库 CCG发布活动CCG-CGTN国际论坛\n\n2018年03月27日（14:00 - 17:30）(GMT+8)\n\n更多信息，访问https://app.glueup.cn/my/events/15025
LOCATION:
BEGIN:VALARM
TRIGGER:-PT48H
REPEAT:4
DURATION:PT30M
ACTION:DISPLAY
END:VALARM
END:VEVENT
END:VCALENDAR