BEGIN:VCALENDAR
VERSION:2.0
PRODID:GlueUp
CALSCALE:GREGORIAN
BEGIN:VTIMEZONE
TZID:UTC
BEGIN:STANDARD
DTSTART:19700101T000000
TZOFFSETFROM:+0000
TZOFFSETTO:+0000
TZNAME:UTC
END:STANDARD
END:VTIMEZONE
BEGIN:VEVENT
TZ:+00
ORGANIZER;CN=Tolmao Group:MAILTO:nata@tolmaogroup.com
UID:14918-1776656803@https://app.glueup.cn
DTSTAMP:20260420T034643Z
DTSTART:20180320T110000Z
DTEND:20180320T130000Z
SUMMARY:Rethinking Your Space
DESCRIPTION:Rethinking Your Space by Tolmao Group\n\nMar 20, 2018 (7:00 PM - 9:00 PM)(GMT+8)\n\nFor more information, click here: https://app.glueup.cn/my/events/14918
LOCATION:WeWork IFC - 金融中心 浦东新区世纪大道8号国金中心1期15层 - 15F - HSBC Building - Shanghai IFC -  8 Century Avenue - Pudong - Shanghai  200120 Shanghai - China
BEGIN:VALARM
TRIGGER:-PT48H
REPEAT:4
DURATION:PT30M
ACTION:DISPLAY
END:VALARM
END:VEVENT
END:VCALENDAR