BEGIN:VCALENDAR
VERSION:2.0
PRODID:GlueUp
CALSCALE:GREGORIAN
BEGIN:VTIMEZONE
TZID:UTC
BEGIN:STANDARD
DTSTART:19700101T000000
TZOFFSETFROM:+0000
TZOFFSETTO:+0000
TZNAME:UTC
END:STANDARD
END:VTIMEZONE
BEGIN:VEVENT
TZ:+00
ORGANIZER;CN=Zoe Zhang:MAILTO:info@tektonikmusic.org
UID:14609-1776642925@https://app.glueup.cn
DTSTAMP:20260419T235525Z
DTSTART:20180304T103000Z
DTEND:20180304T133000Z
SUMMARY:Outdoor Concert for Dana Leong’s Birthday!
DESCRIPTION:Outdoor Concert for Dana Leong’s Birthday! by Tolmao Group\n\nMar 4, 2018 (6:30 PM - 9:30 PM)(GMT+8)\n\nFor more information, click here: https://app.glueup.cn/my/events/14609
LOCATION:The Yongfoo Elite - No.200 YONGFU RD - SHANGHAI CHINA -  - 上海 徐汇区 永福路200号 雍福会
BEGIN:VALARM
TRIGGER:-PT48H
REPEAT:4
DURATION:PT30M
ACTION:DISPLAY
END:VALARM
END:VEVENT
END:VCALENDAR