BEGIN:VCALENDAR
VERSION:2.0
PRODID:GlueUp
CALSCALE:GREGORIAN
BEGIN:VTIMEZONE
TZID:UTC
BEGIN:STANDARD
DTSTART:19700101T000000
TZOFFSETFROM:+0000
TZOFFSETTO:+0000
TZNAME:UTC
END:STANDARD
END:VTIMEZONE
BEGIN:VEVENT
TZ:+00
ORGANIZER;CN=Madeleine Madeleine:MAILTO:m.leine@hotmail.com
UID:14507-1776800716@https://app.glueup.cn
DTSTAMP:20260421T194516Z
DTSTART:20180319T110000Z
DTEND:20180716T130000Z
SUMMARY:JingJobs Professional Development Mentorship Program
DESCRIPTION:JingJobs Professional Development Mentorship Program by JingJobs\n\nMar 19, 2018 to Jul 16, 2018(GMT+8)\n\nFor more information, click here: https://app.glueup.cn/my/events/14507
LOCATION:一座一忘丽江主题餐厅（工体店） - 工人体育场北路21号永利国际2楼//2F Yoolee Plaza - 21 Gongti beilu Beijing - China
BEGIN:VALARM
TRIGGER:-PT48H
REPEAT:4
DURATION:PT30M
ACTION:DISPLAY
END:VALARM
END:VEVENT
END:VCALENDAR