BEGIN:VCALENDAR
VERSION:2.0
PRODID:GlueUp
CALSCALE:GREGORIAN
BEGIN:VTIMEZONE
TZID:UTC
BEGIN:STANDARD
DTSTART:19700101T000000
TZOFFSETFROM:+0000
TZOFFSETTO:+0000
TZNAME:UTC
END:STANDARD
END:VTIMEZONE
BEGIN:VEVENT
TZ:+00
ORGANIZER;CN=郭秀茹:MAILTO:guoxiuru@ccg.org.cn
UID:14331-1776786286@https://app.glueup.cn
DTSTAMP:20260421T154446Z
DTSTART:20180202T013000Z
DTEND:20180202T033000Z
SUMMARY:“全球变局与中国道路：改革开放40年回顾与展望“主题报告发布会
DESCRIPTION:全球化智库 CCG发布活动“全球变局与中国道路：改革开放40年回顾与展望“主题报告发布会\n\n2018年02月02日（09:30 - 11:30）(GMT+8)\n\n更多信息，访问https://app.glueup.cn/my/events/14331
LOCATION:汉威大厦 - 中国北京汉威大厦
BEGIN:VALARM
TRIGGER:-PT48H
REPEAT:4
DURATION:PT30M
ACTION:DISPLAY
END:VALARM
END:VEVENT
END:VCALENDAR