BEGIN:VCALENDAR
VERSION:2.0
PRODID:GlueUp
CALSCALE:GREGORIAN
BEGIN:VTIMEZONE
TZID:UTC
BEGIN:STANDARD
DTSTART:19700101T000000
TZOFFSETFROM:+0000
TZOFFSETTO:+0000
TZNAME:UTC
END:STANDARD
END:VTIMEZONE
BEGIN:VEVENT
TZ:+00
ORGANIZER;CN=Zhou Vanilla:MAILTO:event@digitalbootcamp.asia
UID:13863-1776662918@https://app.glueup.cn
DTSTAMP:20260420T052838Z
DTSTART:20180110T110000Z
DTEND:20180110T130000Z
SUMMARY:China's 2018 Economic Outlook
DESCRIPTION:China's 2018 Economic Outlook by Tolmao Group\n\nJan 10, 2018 (7:00 PM - 9:00 PM)(GMT+8)\n\nFor more information, click here: https://app.glueup.cn/my/events/13863
LOCATION:CEO SUITE（ 28th Floor Shanghai World Financial Center） - 28th Floor - Shanghai World Financial Center - No.100 Century Avenue - Pudong - 上海市浦东新区世纪大道100号 - 环球金融中心28楼事易好商务中心 Shanghai - China
BEGIN:VALARM
TRIGGER:-PT48H
REPEAT:4
DURATION:PT30M
ACTION:DISPLAY
END:VALARM
END:VEVENT
END:VCALENDAR