BEGIN:VCALENDAR
VERSION:2.0
PRODID:GlueUp
CALSCALE:GREGORIAN
BEGIN:VTIMEZONE
TZID:UTC
BEGIN:STANDARD
DTSTART:19700101T000000
TZOFFSETFROM:+0000
TZOFFSETTO:+0000
TZNAME:UTC
END:STANDARD
END:VTIMEZONE
BEGIN:VEVENT
TZ:+00
ORGANIZER;CN=Rachele Abrusci:MAILTO:rachele@tolmaogroup.com
UID:13143-1776656772@https://app.glueup.cn
DTSTAMP:20260420T034612Z
DTSTART:20171128T110000Z
DTEND:20171128T130000Z
SUMMARY:2018 Digital Marketing Trend in China
DESCRIPTION:2018 Digital Marketing Trend in China by Tolmao Group\n\nNov 28, 2017 (7:00 PM - 9:00 PM)(GMT+8)\n\nFor more information, click here: https://app.glueup.cn/my/events/13143
LOCATION:Shanghai World Financial Center, CEO SUITE - 28th Floor - Shanghai World Financial Center - No.100 Century Avenue - Pudong - 上海市浦东新区世纪大道100号 - 环球金融中心28楼事易好商务中心 上海 - China
BEGIN:VALARM
TRIGGER:-PT48H
REPEAT:4
DURATION:PT30M
ACTION:DISPLAY
END:VALARM
END:VEVENT
END:VCALENDAR