BEGIN:VCALENDAR
VERSION:2.0
PRODID:GlueUp
CALSCALE:GREGORIAN
BEGIN:VTIMEZONE
TZID:UTC
BEGIN:STANDARD
DTSTART:19700101T000000
TZOFFSETFROM:+0000
TZOFFSETTO:+0000
TZNAME:UTC
END:STANDARD
END:VTIMEZONE
BEGIN:VEVENT
TZ:+00
ORGANIZER;CN=Johanna Spee:MAILTO:spee.johanna@sh.china.ahk.de
UID:13079-1777113458@https://app.glueup.cn
DTSTAMP:20260425T103738Z
DTSTART:20171204T053000Z
DTEND:20171204T103000Z
SUMMARY:[Nanjing] Special Event: “Understanding the Implications of the Environmental Policy on your Manufacturing Activities – Special Focus Nanjing”
DESCRIPTION:[Nanjing] Special Event: “Understanding the Implications of the Environmental Policy on your Manufacturing Activities – Special Focus Nanjing” by German Chamber of Commerce in China - Shanghai\n\nDec 4, 2017 (1:30 PM - 6:30 PM)(GMT+8)\n\nFor more information, click here: https://app.glueup.cn/my/events/13079
LOCATION:Sofitel Nanjing Zhongshan Golf Suning Hotel - No.9 Huanling Road - Nanjing - 南京苏宁索菲特钟山高尔夫酒店 - 环陵路9号 Nanjing - China
BEGIN:VALARM
TRIGGER:-PT48H
REPEAT:4
DURATION:PT30M
ACTION:DISPLAY
END:VALARM
END:VEVENT
END:VCALENDAR