BEGIN:VCALENDAR
VERSION:2.0
PRODID:GlueUp
CALSCALE:GREGORIAN
BEGIN:VTIMEZONE
TZID:UTC
BEGIN:STANDARD
DTSTART:19700101T000000
TZOFFSETFROM:+0000
TZOFFSETTO:+0000
TZNAME:UTC
END:STANDARD
END:VTIMEZONE
BEGIN:VEVENT
TZ:+00
ORGANIZER;CN=Rachele Abrusci:MAILTO:event@digitalbootcamp.asia
UID:13014-1776656806@https://app.glueup.cn
DTSTAMP:20260420T034646Z
DTSTART:20171122T110000Z
DTEND:20171122T130000Z
SUMMARY:Shanghai LinkedIn Meetup
DESCRIPTION:Shanghai LinkedIn Meetup by Tolmao Group\n\nNov 22, 2017 (7:00 PM - 9:00 PM)(GMT+8)\n\nFor more information, click here: https://app.glueup.cn/my/events/13014
LOCATION:WeWork 延平路 - 135 Yanping Road Jing'an District Shanghai 31 200042 Shanghai - China
BEGIN:VALARM
TRIGGER:-PT48H
REPEAT:4
DURATION:PT30M
ACTION:DISPLAY
END:VALARM
END:VEVENT
END:VCALENDAR