BEGIN:VCALENDAR
VERSION:2.0
PRODID:GlueUp
CALSCALE:GREGORIAN
BEGIN:VTIMEZONE
TZID:UTC
BEGIN:STANDARD
DTSTART:19700101T000000
TZOFFSETFROM:+0000
TZOFFSETTO:+0000
TZNAME:UTC
END:STANDARD
END:VTIMEZONE
BEGIN:VEVENT
TZ:+00
ORGANIZER;CN=郭加月:MAILTO:2569489775@qq.com
UID:1251-1777048172@https://app.glueup.cn
DTSTAMP:20260424T162932Z
DTSTART:20150408T160001Z
DTEND:20150410T160001Z
SUMMARY:2015年美国国际广告标识展ISA Sign Expo
DESCRIPTION:美沙展览集团发布活动2015年美国国际广告标识展ISA Sign Expo\n\n四月 09 - 11，2015(GMT+8)\n\n更多信息，访问https://app.glueup.cn/my/events/1251
LOCATION:奥兰多 - 奥兰多 -  美国
BEGIN:VALARM
TRIGGER:-PT48H
REPEAT:4
DURATION:PT30M
ACTION:DISPLAY
END:VALARM
END:VEVENT
END:VCALENDAR