BEGIN:VCALENDAR
VERSION:2.0
PRODID:GlueUp
CALSCALE:GREGORIAN
BEGIN:VTIMEZONE
TZID:UTC
BEGIN:STANDARD
DTSTART:19700101T000000
TZOFFSETFROM:+0000
TZOFFSETTO:+0000
TZNAME:UTC
END:STANDARD
END:VTIMEZONE
BEGIN:VEVENT
TZ:+00
ORGANIZER;CN=Tolmao Group:MAILTO:nata@tolmaogroup.com
UID:12452-1776656839@https://app.glueup.cn
DTSTAMP:20260420T034719Z
DTSTART:20171031T113000Z
DTEND:20171031T133000Z
SUMMARY:DEVELOPING TRENDS OF BLOCK CHAIN TECHNOLOGY AND SWARM INTELLIGENCE
DESCRIPTION:DEVELOPING TRENDS OF BLOCK CHAIN TECHNOLOGY AND SWARM INTELLIGENCE by Tolmao Group\n\nOct 31, 2017 (7:30 PM - 9:30 PM)(GMT+8)\n\nFor more information, click here: https://app.glueup.cn/my/events/12452
LOCATION:CEO SUITE（ 28th Floor World World Financial Center） - 28th Floor - Shanghai World Financial Center - No.100 Century Avenue - Pudong shanghai - China
BEGIN:VALARM
TRIGGER:-PT48H
REPEAT:4
DURATION:PT30M
ACTION:DISPLAY
END:VALARM
END:VEVENT
END:VCALENDAR