BEGIN:VCALENDAR
VERSION:2.0
PRODID:GlueUp
CALSCALE:GREGORIAN
BEGIN:VTIMEZONE
TZID:UTC
BEGIN:STANDARD
DTSTART:19700101T000000
TZOFFSETFROM:+0000
TZOFFSETTO:+0000
TZNAME:UTC
END:STANDARD
END:VTIMEZONE
BEGIN:VEVENT
TZ:+00
ORGANIZER;CN=Tolmao Group:MAILTO:nata@tolmaogroup.com
UID:12307-1776662996@https://app.glueup.cn
DTSTAMP:20260420T052956Z
DTSTART:20171019T110000Z
DTEND:20171019T130000Z
SUMMARY:WeChat Monthly Review- WeChat Mini program
DESCRIPTION:WeChat Monthly Review- WeChat Mini program by Tolmao Group\n\nOct 19, 2017 (7:00 PM - 9:00 PM)(GMT+8)\n\nFor more information, click here: https://app.glueup.cn/my/events/12307
LOCATION:WeWork/凯腾大厦 - 13th Floor WeWork No.118 South Yunnan  Road Huangpu District - Shanghai  - 上海市黄浦区云南南路118号，凯腾大厦 Wework 13楼 Shanghai Shi - China
BEGIN:VALARM
TRIGGER:-PT48H
REPEAT:4
DURATION:PT30M
ACTION:DISPLAY
END:VALARM
END:VEVENT
END:VCALENDAR