BEGIN:VCALENDAR
VERSION:2.0
PRODID:GlueUp
CALSCALE:GREGORIAN
BEGIN:VTIMEZONE
TZID:UTC
BEGIN:STANDARD
DTSTART:19700101T000000
TZOFFSETFROM:+0000
TZOFFSETTO:+0000
TZNAME:UTC
END:STANDARD
END:VTIMEZONE
BEGIN:VEVENT
TZ:+00
ORGANIZER;CN=郭加月:MAILTO:2569489775@qq.com
UID:1216-1777059729@https://app.glueup.cn
DTSTAMP:20260424T194209Z
DTSTART:20150922T160001Z
DTEND:20150925T160001Z
SUMMARY:2015年俄罗斯广告标牌展览会 REKLAMA
DESCRIPTION:美沙展览集团发布活动2015年俄罗斯广告标牌展览会 REKLAMA\n\n9月 23 - 26，2015(GMT+8)\n\n更多信息，访问https://app.glueup.cn/my/events/1216
LOCATION:莫斯科展览中心 - 俄罗斯
BEGIN:VALARM
TRIGGER:-PT48H
REPEAT:4
DURATION:PT30M
ACTION:DISPLAY
END:VALARM
END:VEVENT
END:VCALENDAR