BEGIN:VCALENDAR
VERSION:2.0
PRODID:GlueUp
CALSCALE:GREGORIAN
BEGIN:VTIMEZONE
TZID:UTC
BEGIN:STANDARD
DTSTART:19700101T000000
TZOFFSETFROM:+0000
TZOFFSETTO:+0000
TZNAME:UTC
END:STANDARD
END:VTIMEZONE
BEGIN:VEVENT
TZ:+00
ORGANIZER;CN=郭加月:MAILTO:2569489775@qq.com
UID:1202-1777064476@https://app.glueup.cn
DTSTAMP:20260424T210116Z
DTSTART:20151015T160001Z
DTEND:20151020T160001Z
SUMMARY:2015年比利时世界客车博览会 BusWorld  Kortrijk
DESCRIPTION:美沙展览集团发布活动2015年比利时世界客车博览会 BusWorld  Kortrijk\n\n十月 16 - 21，2015(GMT+8)\n\n更多信息，访问https://app.glueup.cn/my/events/1202
LOCATION:比利时  科特赖克
BEGIN:VALARM
TRIGGER:-PT48H
REPEAT:4
DURATION:PT30M
ACTION:DISPLAY
END:VALARM
END:VEVENT
END:VCALENDAR