BEGIN:VCALENDAR
VERSION:2.0
PRODID:GlueUp
CALSCALE:GREGORIAN
BEGIN:VTIMEZONE
TZID:UTC
BEGIN:STANDARD
DTSTART:19700101T000000
TZOFFSETFROM:+0000
TZOFFSETTO:+0000
TZNAME:UTC
END:STANDARD
END:VTIMEZONE
BEGIN:VEVENT
TZ:+00
ORGANIZER;CN=Carol Chen:MAILTO:carol@cages.cn
UID:11930-1776845669@https://app.glueup.cn
DTSTAMP:20260422T081429Z
DTSTART:20171104T030000Z
DTEND:20171104T100000Z
SUMMARY:Bubbas 12th Annual Chili Cookoff
DESCRIPTION:Bubbas 12th Annual Chili Cookoff by Cages Bar & Sports Shanghai\n\nNov 4, 2017 (11:00 - 18:00)(GMT+8)\n\nFor more information, click here: https://app.glueup.cn/my/events/11930
LOCATION:Cages Bar & Sports - 3F - Jing'An Sports Center  - Jiang Ning Lu 428 - Jing'an - Shanghai Shanghai - Shanghai Shi - China
BEGIN:VALARM
TRIGGER:-PT48H
REPEAT:4
DURATION:PT30M
ACTION:DISPLAY
END:VALARM
END:VEVENT
END:VCALENDAR