BEGIN:VCALENDAR
VERSION:2.0
PRODID:GlueUp
CALSCALE:GREGORIAN
BEGIN:VTIMEZONE
TZID:UTC
BEGIN:STANDARD
DTSTART:19700101T000000
TZOFFSETFROM:+0000
TZOFFSETTO:+0000
TZNAME:UTC
END:STANDARD
END:VTIMEZONE
BEGIN:VEVENT
TZ:+00
ORGANIZER;CN=Leslie Beijing Women's Network:MAILTO:beijingwomennet@gmail.com
UID:11789-1776899106@https://app.glueup.cn
DTSTAMP:20260422T230506Z
DTSTART:20170923T040000Z
DTEND:20170923T060000Z
SUMMARY:Life, Love, and Relationships - Lunch
DESCRIPTION:Life, Love, and Relationships - Lunch by Beijing Women's Network\n\nSep 23, 2017 (12:00 - 14:00)(GMT+8)\n\nFor more information, click here: https://app.glueup.cn/my/events/11789
LOCATION:Qmex Bar & Grill - 工体北路4号院 Beijing - China
BEGIN:VALARM
TRIGGER:-PT48H
REPEAT:4
DURATION:PT30M
ACTION:DISPLAY
END:VALARM
END:VEVENT
END:VCALENDAR