BEGIN:VCALENDAR
VERSION:2.0
PRODID:GlueUp
CALSCALE:GREGORIAN
BEGIN:VTIMEZONE
TZID:UTC
BEGIN:STANDARD
DTSTART:19700101T000000
TZOFFSETFROM:+0000
TZOFFSETTO:+0000
TZNAME:UTC
END:STANDARD
END:VTIMEZONE
BEGIN:VEVENT
TZ:+00
ORGANIZER;CN=郭加月:MAILTO:2569489775@qq.com
UID:1169-1777059420@https://app.glueup.cn
DTSTAMP:20260424T193700Z
DTSTART:20151020T160001Z
DTEND:20151021T160001Z
SUMMARY:2015年美国西部照明展LightShow/West
DESCRIPTION:美沙展览集团发布活动2015年美国西部照明展LightShow/West\n\n2015年10月21日，2015年10月22日(GMT+8)\n\n更多信息，访问https://app.glueup.cn/my/events/1169
LOCATION: - 洛杉矶 -  美国
BEGIN:VALARM
TRIGGER:-PT48H
REPEAT:4
DURATION:PT30M
ACTION:DISPLAY
END:VALARM
END:VEVENT
END:VCALENDAR