BEGIN:VCALENDAR
VERSION:2.0
PRODID:GlueUp
CALSCALE:GREGORIAN
BEGIN:VTIMEZONE
TZID:UTC
BEGIN:STANDARD
DTSTART:19700101T000000
TZOFFSETFROM:+0000
TZOFFSETTO:+0000
TZNAME:UTC
END:STANDARD
END:VTIMEZONE
BEGIN:VEVENT
TZ:+00
ORGANIZER;CN=郭加月:MAILTO:2569489775@qq.com
UID:1168-1777065715@https://app.glueup.cn
DTSTAMP:20260424T212155Z
DTSTART:20150623T160001Z
DTEND:20150626T160001Z
SUMMARY:2015年韩国国际LED&OLED展
DESCRIPTION:美沙展览集团发布活动2015年韩国国际LED&OLED展\n\n6月 24 - 27，2015(GMT+8)\n\n更多信息，访问https://app.glueup.cn/my/events/1168
LOCATION: - 首尔 - 韩国
BEGIN:VALARM
TRIGGER:-PT48H
REPEAT:4
DURATION:PT30M
ACTION:DISPLAY
END:VALARM
END:VEVENT
END:VCALENDAR