BEGIN:VCALENDAR
VERSION:2.0
PRODID:GlueUp
CALSCALE:GREGORIAN
BEGIN:VTIMEZONE
TZID:UTC
BEGIN:STANDARD
DTSTART:19700101T000000
TZOFFSETFROM:+0000
TZOFFSETTO:+0000
TZNAME:UTC
END:STANDARD
END:VTIMEZONE
BEGIN:VEVENT
TZ:+00
ORGANIZER;CN=郭加月:MAILTO:2569489775@qq.com
UID:1154-1777059422@https://app.glueup.cn
DTSTAMP:20260424T193702Z
DTSTART:20150519T160001Z
DTEND:20150521T160001Z
SUMMARY:2015年日本电机技术展 MOTOR TECH
DESCRIPTION:美沙展览集团发布活动2015年日本电机技术展 MOTOR TECH\n\n5月 20 - 22，2015(GMT+8)\n\n更多信息，访问https://app.glueup.cn/my/events/1154
LOCATION:
BEGIN:VALARM
TRIGGER:-PT48H
REPEAT:4
DURATION:PT30M
ACTION:DISPLAY
END:VALARM
END:VEVENT
END:VCALENDAR