BEGIN:VCALENDAR
VERSION:2.0
PRODID:GlueUp
CALSCALE:GREGORIAN
BEGIN:VTIMEZONE
TZID:UTC
BEGIN:STANDARD
DTSTART:19700101T000000
TZOFFSETFROM:+0000
TZOFFSETTO:+0000
TZNAME:UTC
END:STANDARD
END:VTIMEZONE
BEGIN:VEVENT
TZ:+00
ORGANIZER;CN=Fasal Nsereko:MAILTO:fnsereko123@gmail.com
UID:11355-1777059382@https://app.glueup.cn
DTSTAMP:20260424T193622Z
DTSTART:20170902T020000Z
DTEND:20170902T100000Z
SUMMARY:【定向邀请•预定金约¥4.3万】曼彻斯特市中心地标公寓Oxygen，潜力直升中
DESCRIPTION:Shconnector发布活动【定向邀请•预定金约¥4.3万】曼彻斯特市中心地标公寓Oxygen，潜力直升中\n\n2017年09月02日（10:00 - 18:00）(GMT+8)\n\n更多信息，访问https://app.glueup.cn/my/events/11355
LOCATION:外滩中心 - 中国上海市上海延安东路 222
BEGIN:VALARM
TRIGGER:-PT48H
REPEAT:4
DURATION:PT30M
ACTION:DISPLAY
END:VALARM
END:VEVENT
END:VCALENDAR