BEGIN:VCALENDAR
VERSION:2.0
PRODID:GlueUp
CALSCALE:GREGORIAN
BEGIN:VTIMEZONE
TZID:UTC
BEGIN:STANDARD
DTSTART:19700101T000000
TZOFFSETFROM:+0000
TZOFFSETTO:+0000
TZNAME:UTC
END:STANDARD
END:VTIMEZONE
BEGIN:VEVENT
TZ:+00
ORGANIZER;CN=郭加月:MAILTO:2569489775@qq.com
UID:1114-1777064767@https://app.glueup.cn
DTSTAMP:20260424T210607Z
DTSTART:20150518T160001Z
DTEND:20150520T160001Z
SUMMARY:2015年德国纽伦堡电子电力展PCIM Europe
DESCRIPTION:美沙展览集团发布活动2015年德国纽伦堡电子电力展PCIM Europe\n\n5月 19 - 21，2015(GMT+8)\n\n更多信息，访问https://app.glueup.cn/my/events/1114
LOCATION:纽伦堡国际展览中心 - 德国
BEGIN:VALARM
TRIGGER:-PT48H
REPEAT:4
DURATION:PT30M
ACTION:DISPLAY
END:VALARM
END:VEVENT
END:VCALENDAR