BEGIN:VCALENDAR
VERSION:2.0
PRODID:GlueUp
CALSCALE:GREGORIAN
BEGIN:VTIMEZONE
TZID:UTC
BEGIN:STANDARD
DTSTART:19700101T000000
TZOFFSETFROM:+0000
TZOFFSETTO:+0000
TZNAME:UTC
END:STANDARD
END:VTIMEZONE
BEGIN:VEVENT
TZ:+00
ORGANIZER;CN=Madeleine Madeleine:MAILTO:maddy@jingjobs.com
UID:10853-1776800700@https://app.glueup.cn
DTSTAMP:20260421T194500Z
DTSTART:20170909T050000Z
DTEND:20170909T091500Z
SUMMARY:Road to Success
DESCRIPTION:Road to Success by JingJobs\n\nSep 9, 2017 (1:00 PM - 5:15 PM)(GMT+8)\n\nFor more information, click here: https://app.glueup.cn/my/events/10853
LOCATION:mydream+ ChaoWai MEN Space - Floor 3 - ChaoWai MEN Building B - No.26 ChaoYangMenWai DaJie - ChaoYang District Beijing
BEGIN:VALARM
TRIGGER:-PT48H
REPEAT:4
DURATION:PT30M
ACTION:DISPLAY
END:VALARM
END:VEVENT
END:VCALENDAR