BEGIN:VCALENDAR
VERSION:2.0
PRODID:GlueUp
CALSCALE:GREGORIAN
BEGIN:VTIMEZONE
TZID:UTC
BEGIN:STANDARD
DTSTART:19700101T000000
TZOFFSETFROM:+0000
TZOFFSETTO:+0000
TZNAME:UTC
END:STANDARD
END:VTIMEZONE
BEGIN:VEVENT
TZ:+00
ORGANIZER;CN=郭加月:MAILTO:2569489775@qq.com
UID:1081-1777059344@https://app.glueup.cn
DTSTAMP:20260424T193544Z
DTSTART:20150511T160001Z
DTEND:20150513T160001Z
SUMMARY:2015年意大利电气自动化系统及元器件展
DESCRIPTION:美沙展览集团发布活动2015年意大利电气自动化系统及元器件展\n\n5月 12 - 14，2015(GMT+8)\n\n更多信息，访问https://app.glueup.cn/my/events/1081
LOCATION:帕尔马 - 意大利
BEGIN:VALARM
TRIGGER:-PT48H
REPEAT:4
DURATION:PT30M
ACTION:DISPLAY
END:VALARM
END:VEVENT
END:VCALENDAR