BEGIN:VCALENDAR
VERSION:2.0
PRODID:GlueUp
CALSCALE:GREGORIAN
BEGIN:VTIMEZONE
TZID:UTC
BEGIN:STANDARD
DTSTART:19700101T000000
TZOFFSETFROM:+0000
TZOFFSETTO:+0000
TZNAME:UTC
END:STANDARD
END:VTIMEZONE
BEGIN:VEVENT
TZ:+00
ORGANIZER;CN=Martha Wang:MAILTO:martha@shconnector.com
UID:10745-1777059380@https://app.glueup.cn
DTSTAMP:20260424T193620Z
DTSTART:20170801T103000Z
DTEND:20170801T140000Z
SUMMARY:Strategic Marketing Workshop｜ 战略营销研讨会
DESCRIPTION:Strategic Marketing Workshop｜ 战略营销研讨会 by Shconnector\n\nAug 1, 2017 (6:30 PM - 10:00 PM)(GMT+8)\n\nFor more information, click here: https://app.glueup.cn/my/events/10745
LOCATION:Office Works - 武定路969号5楼（延平路） 上海 - China
BEGIN:VALARM
TRIGGER:-PT48H
REPEAT:4
DURATION:PT30M
ACTION:DISPLAY
END:VALARM
END:VEVENT
END:VCALENDAR