BEGIN:VCALENDAR
VERSION:2.0
PRODID:GlueUp
CALSCALE:GREGORIAN
BEGIN:VTIMEZONE
TZID:UTC
BEGIN:STANDARD
DTSTART:19700101T000000
TZOFFSETFROM:+0000
TZOFFSETTO:+0000
TZNAME:UTC
END:STANDARD
END:VTIMEZONE
BEGIN:VEVENT
TZ:+00
ORGANIZER;CN=Marian Danko:MAILTO:becool@wehustle.cn
UID:10147-1776699946@https://app.glueup.cn
DTSTAMP:20260420T154546Z
DTSTART:20170626T103000Z
DTEND:20170626T140000Z
SUMMARY:Transform Your Business Digital
DESCRIPTION:Transform Your Business Digital by weHustle\n\nJun 26, 2017 (6:30 PM - 10:00 PM)(GMT+8)\n\nFor more information, click here: https://app.glueup.cn/my/events/10147
LOCATION:naked Hub@Jiuxianqiao - B4 - No.14 Jiuxianqiao Rd - C&W Industrial Park - Chaoyang District - 朝阳区酒仙桥路14号兆维工业园B4楼 Beijing - China
BEGIN:VALARM
TRIGGER:-PT48H
REPEAT:4
DURATION:PT30M
ACTION:DISPLAY
END:VALARM
END:VEVENT
END:VCALENDAR